BEGIN:VCALENDAR
VERSION:2.0
PRODID:-//Council for Learning Outside the Classroom - ECPv6.15.15//NONSGML v1.0//EN
CALSCALE:GREGORIAN
METHOD:PUBLISH
X-WR-CALNAME:Council for Learning Outside the Classroom
X-ORIGINAL-URL:https://www.lotc.org.uk
X-WR-CALDESC:Events for Council for Learning Outside the Classroom
REFRESH-INTERVAL;VALUE=DURATION:PT1H
X-Robots-Tag:noindex
X-PUBLISHED-TTL:PT1H
BEGIN:VTIMEZONE
TZID:Europe/London
BEGIN:DAYLIGHT
TZOFFSETFROM:+0000
TZOFFSETTO:+0100
TZNAME:BST
DTSTART:20220327T010000
END:DAYLIGHT
BEGIN:STANDARD
TZOFFSETFROM:+0100
TZOFFSETTO:+0000
TZNAME:GMT
DTSTART:20221030T010000
END:STANDARD
BEGIN:DAYLIGHT
TZOFFSETFROM:+0000
TZOFFSETTO:+0100
TZNAME:BST
DTSTART:20230326T010000
END:DAYLIGHT
BEGIN:STANDARD
TZOFFSETFROM:+0100
TZOFFSETTO:+0000
TZNAME:GMT
DTSTART:20231029T010000
END:STANDARD
BEGIN:DAYLIGHT
TZOFFSETFROM:+0000
TZOFFSETTO:+0100
TZNAME:BST
DTSTART:20240331T010000
END:DAYLIGHT
BEGIN:STANDARD
TZOFFSETFROM:+0100
TZOFFSETTO:+0000
TZNAME:GMT
DTSTART:20241027T010000
END:STANDARD
END:VTIMEZONE
BEGIN:VEVENT
DTSTART;TZID=Europe/London:20231004T093000
DTEND;TZID=Europe/London:20231004T150000
DTSTAMP:20260421T044259
CREATED:20230727T083012Z
LAST-MODIFIED:20230727T083012Z
UID:9642-1696411800-1696431600@www.lotc.org.uk
SUMMARY:Raising the standard – Literacy outdoors
DESCRIPTION:An exciting course using the great outdoors for inspiration in literacy based activities for key stages 1 and 2. Discover the literacy that lies within nature and use this for activities including storytelling\, creative writing and poetry. \nThis one day course is designed for educators working with children in key stage 1 and 2. \nPlaces must be booked in advance. Elements of this course will be outside\, please ensure appropriate clothing and footwear are worn. Tea and coffee will be provided. \nBook online at: bookings.kentcountryparks.co.uk/courses.html#/kcp_event_list?category=literacy&park=Shorne \nFor questions and further information\, please email outdoorlearn01@kent.gov.uk or phone 03000 413500.
URL:https://www.lotc.org.uk/event/raising-the-standard-literacy-outdoors/
LOCATION:Shorne Woods Country Park\, Brewers Road\, Gravesend\, DA12 3HX
CATEGORIES:LOtC Events,LOtC Quality Badge hosted events
ATTACH;FMTTYPE=image/png:https://www.lotc.org.uk/wp-content/uploads/2023/07/Literacy-Outdoors.png
END:VEVENT
END:VCALENDAR