BEGIN:VCALENDAR
VERSION:2.0
PRODID:-//Council for Learning Outside the Classroom - ECPv6.15.15//NONSGML v1.0//EN
CALSCALE:GREGORIAN
METHOD:PUBLISH
X-WR-CALNAME:Council for Learning Outside the Classroom
X-ORIGINAL-URL:https://www.lotc.org.uk
X-WR-CALDESC:Events for Council for Learning Outside the Classroom
REFRESH-INTERVAL;VALUE=DURATION:PT1H
X-Robots-Tag:noindex
X-PUBLISHED-TTL:PT1H
BEGIN:VTIMEZONE
TZID:Europe/London
BEGIN:DAYLIGHT
TZOFFSETFROM:+0000
TZOFFSETTO:+0100
TZNAME:BST
DTSTART:20250330T010000
END:DAYLIGHT
BEGIN:STANDARD
TZOFFSETFROM:+0100
TZOFFSETTO:+0000
TZNAME:GMT
DTSTART:20251026T010000
END:STANDARD
BEGIN:DAYLIGHT
TZOFFSETFROM:+0000
TZOFFSETTO:+0100
TZNAME:BST
DTSTART:20260329T010000
END:DAYLIGHT
BEGIN:STANDARD
TZOFFSETFROM:+0100
TZOFFSETTO:+0000
TZNAME:GMT
DTSTART:20261025T010000
END:STANDARD
BEGIN:DAYLIGHT
TZOFFSETFROM:+0000
TZOFFSETTO:+0100
TZNAME:BST
DTSTART:20270328T010000
END:DAYLIGHT
BEGIN:STANDARD
TZOFFSETFROM:+0100
TZOFFSETTO:+0000
TZNAME:GMT
DTSTART:20271031T010000
END:STANDARD
END:VTIMEZONE
BEGIN:VEVENT
DTSTART;TZID=Europe/London:20260219T093000
DTEND;TZID=Europe/London:20260219T160000
DTSTAMP:20260419T134349
CREATED:20251119T100926Z
LAST-MODIFIED:20251119T101130Z
UID:19911-1771493400-1771516800@www.lotc.org.uk
SUMMARY:Outdoor Learning Practitioner CPD Day
DESCRIPTION:Hosted or Organised by: Institute Outdoor Learning \nA day of practical and theoretical workshops aimed at developing the skills\, knowledge and understanding of outdoor learning practitioners across a range of activities and topics.  This event is also an opportunity for delegates to network and share with a community of passionate outdoor learning professionals and get inspiration for the valuable work they do. \n£45 Early Bird until 19th January. £55 full price \nThis event is aimed at: Outdoor Learning Practitioners with a range of experience from apprentices/trainees to aspiring managers and leaders. \nFor more information and to book\, please visit: CPD day for Outdoor Learning Professionals and Practitioners \nFor questions and further information\, please contact louise.edwards@surreycc.gov.uk. \n 
URL:https://www.lotc.org.uk/event/outdoor-learning-practitioner-cpd-day/
LOCATION:High Ashurst Outdoor Education Centre\, Headley Lane\, Dorking\, Surrey\, RH5 6DQ\, United Kingdom
CATEGORIES:Member event
ATTACH;FMTTYPE=image/jpeg:https://www.lotc.org.uk/wp-content/uploads/2023/11/stock-image-nature-web-button-.jpg
END:VEVENT
END:VCALENDAR