BEGIN:VCALENDAR
VERSION:2.0
PRODID:-//Council for Learning Outside the Classroom - ECPv6.15.15//NONSGML v1.0//EN
CALSCALE:GREGORIAN
METHOD:PUBLISH
X-WR-CALNAME:Council for Learning Outside the Classroom
X-ORIGINAL-URL:https://www.lotc.org.uk
X-WR-CALDESC:Events for Council for Learning Outside the Classroom
REFRESH-INTERVAL;VALUE=DURATION:PT1H
X-Robots-Tag:noindex
X-PUBLISHED-TTL:PT1H
BEGIN:VTIMEZONE
TZID:Europe/London
BEGIN:DAYLIGHT
TZOFFSETFROM:+0000
TZOFFSETTO:+0100
TZNAME:BST
DTSTART:20220327T010000
END:DAYLIGHT
BEGIN:STANDARD
TZOFFSETFROM:+0100
TZOFFSETTO:+0000
TZNAME:GMT
DTSTART:20221030T010000
END:STANDARD
BEGIN:DAYLIGHT
TZOFFSETFROM:+0000
TZOFFSETTO:+0100
TZNAME:BST
DTSTART:20230326T010000
END:DAYLIGHT
BEGIN:STANDARD
TZOFFSETFROM:+0100
TZOFFSETTO:+0000
TZNAME:GMT
DTSTART:20231029T010000
END:STANDARD
BEGIN:DAYLIGHT
TZOFFSETFROM:+0000
TZOFFSETTO:+0100
TZNAME:BST
DTSTART:20240331T010000
END:DAYLIGHT
BEGIN:STANDARD
TZOFFSETFROM:+0100
TZOFFSETTO:+0000
TZNAME:GMT
DTSTART:20241027T010000
END:STANDARD
END:VTIMEZONE
BEGIN:VEVENT
DTSTART;TZID=Europe/London:20231004T154500
DTEND;TZID=Europe/London:20231004T171500
DTSTAMP:20260421T060901
CREATED:20230207T191551Z
LAST-MODIFIED:20230207T191551Z
UID:7608-1696434300-1696439700@www.lotc.org.uk
SUMMARY:Embedding LOtC in SEND Schools
DESCRIPTION:How to maximise LOtC opportunities across your school to support and enhance curriculum delivery\, outcomes\, and students and staff wellbeing.\nSpeaker: Gavin Dixon\, LOtC Gold Mark Crosby High and Sue Dutton\, LOtC Gold Mark Sherbrook School \nThis session is mainly aimed at SEND schools.
URL:https://www.lotc.org.uk/event/embedding-lotc-in-send-schools/
CATEGORIES:CLOtC CPD and Events,CLOtC Other Events,Embedding LOtC in SEND Schools
ATTACH;FMTTYPE=image/png:https://www.lotc.org.uk/wp-content/uploads/2022/01/web-button-embedding-SEND.png
LOCATION:https://www.lotc.org.uk/event/embedding-lotc-in-send-schools/
END:VEVENT
END:VCALENDAR